BEGIN:VCALENDAR
VERSION:2.0
PRODID:-//wp-events-plugin.com//7.2.3.1//EN
BEGIN:VEVENT
UID:22@karrieregefluester.com
DTSTART;TZID=Europe/Vienna:20230302T120000
DTEND;TZID=Europe/Vienna:20230302T130000
DTSTAMP:20230208T124230Z
URL:https://karrieregefluester.com/veranstaltungen/diversity-think-tank-me
 ssbarkeit-von-diversitaet-inklusion/
SUMMARY:Diversity Think Tank: Messbarkeit von Diversität & Inklusion
DESCRIPTION:Messbarkeit von Diversität &amp\; Inklusion\nIn vielen Unterne
 hmen und vor allem bei Führungskräften herrscht der Glaube vor\, dass Di
 versität und Inklusion nicht messbar sind. In diesem Lunchbreak möchten 
 wir Sie vom Gegenteil überzeugen. Wir nehmen Sie mit auf eine Reise durch
  das daten- bzw. evidenzbasiere D&amp\;I Management und zeigen anhand fach
 licher Inputs und Best Practice-Beispielen\, welchen Mehrwert die Messbark
 eit von Diversität und Inklusion für Unternehmen und Organisationen jede
 r Größe hervorbringt.
ATTACH;FMTTYPE=image/jpeg:https://karrieregefluester.com/wp-content/upload
 s/2021/12/virtual-learning-gfdde95520_1280.jpg
LOCATION:https://www.eventbrite.com/e/diversity-lunchbreak-messbarkeit-von-
 diversitat-und-inklusion-tickets-530538694517
END:VEVENT
BEGIN:VTIMEZONE
TZID:Europe/Vienna
X-LIC-LOCATION:Europe/Vienna
BEGIN:STANDARD
DTSTART:20221030T020000
TZOFFSETFROM:+0200
TZOFFSETTO:+0100
TZNAME:CET
END:STANDARD
END:VTIMEZONE
END:VCALENDAR