BEGIN:VCALENDAR
VERSION:2.0
PRODID:-//wp-events-plugin.com//7.2.3.1//EN
BEGIN:VEVENT
UID:4@karrieregefluester.com
DTSTART;TZID=Europe/Vienna;VALUE=DATE:20221006
DTEND;TZID=Europe/Vienna;VALUE=DATE:20221007
DTSTAMP:20220811T203835Z
URL:https://karrieregefluester.com/veranstaltungen/employee-experience-sum
 mit/
SUMMARY:Employee Experience Summit
DESCRIPTION:\n\nDas Employee Experience Summit widmet sich einen ganzen Tag
  den wichtigsten Aspekten und aktuellsten Themen rund um Employee Experien
 ce. Inspiriert werden Sie von spannenden Vordenker:innen und anhand von er
 folgreichen Cases. Zudem stehen Sie im Austausch mit einer wachsenden Comm
 unity aus HR und C-Level\, die die Wichtigkeit von EX Management erkannt h
 at. #biggerthanyouthink\n\nAnmeldungen unter: https://lsz.at/events/employ
 ee-experience-summit\n\n
ATTACH;FMTTYPE=image/jpeg:https://karrieregefluester.com/wp-content/upload
 s/2021/12/038_EX2020_LSZ_©VeraSubkus.jpg
LOCATION:Andaz Vienna am Belvedere\, Arsenalstraße 10\, Wien\, 1100\, Öst
 erreich
X-APPLE-STRUCTURED-LOCATION;VALUE=URI;X-ADDRESS=Arsenalstraße 10\, Wien\, 
 1100\, Österreich;X-APPLE-RADIUS=100;X-TITLE=Andaz Vienna am Belvedere:ge
 o:0,0
END:VEVENT
BEGIN:VTIMEZONE
TZID:Europe/Vienna
X-LIC-LOCATION:Europe/Vienna
BEGIN:DAYLIGHT
DTSTART:20220327T030000
TZOFFSETFROM:+0100
TZOFFSETTO:+0200
TZNAME:CEST
END:DAYLIGHT
END:VTIMEZONE
END:VCALENDAR