BEGIN:VCALENDAR
VERSION:2.0
PRODID:-//wp-events-plugin.com//7.2.3.1//EN
BEGIN:VEVENT
UID:66@karrieregefluester.com
DTSTART;TZID=Europe/Vienna;VALUE=DATE:20250116
DTEND;TZID=Europe/Vienna;VALUE=DATE:20250117
DTSTAMP:20241230T101638Z
URL:https://karrieregefluester.com/veranstaltungen/zukunft-recruiting-barc
 amp-2025/
SUMMARY:Zukunft Recruiting BarCamp 2025
DESCRIPTION:Zukunft Recruiting BarCamp 2025\nDas erste Zukunft Recruiting 
 Barcamp Österreichs –  Innovation und Lösungen für die Recruiting-H
 erausforderungen von morgen. Sei dabei\, und gestalte die Zukunft des Rec
 ruitings aktiv mit – praxisnah\, zukunftsorientiert und relevant für de
 in Unternehmen.\n\nWann? 16. Januar 2025\, 8:30-18:00 Uhr\n\nWO? Napoleo
 n\, 1220 Wien\n\n\n\nInfos und Tickets: Hier klicken\nWas ist das Zukunft
  Recruiting BarCamp?\n\n\n\n\n\nEin BarCamp ist eine „Unkonferenz“. D
 as heißt\, du kannst als Teilnehmer:in die Themen und Inhalte selber best
 immen\, mit denen du dich gerne befassen möchtest. Das Veranstaltungforma
 t ist offen und partizipativ – es geht um den Austausch von Wissen und E
 rfahrungen im Recruiting und in der HR. Dabei sprechen wir aber auch die u
 nbequemen Themen an. Denn wenn wir uns Herausforderungen gemeinsam widmen\
 , wachsen wir auch gemeinsam daran – für ein starkes Recruiting.💪\n\
 n\n\n&nbsp\;\n\n\nDarum solltest du dabei sein \n\n\n\n\n\nFür Unternehm
 en wird es immer wichtiger\, auf die aktuellen und zukünftigen Trends im 
 Recruiting schnell zu reagieren. Das Zukunft Recruiting BarCamp bietet ein
 e einzigartige Plattform\, bei der Inhouse-Recruiter:innen direkt in die D
 iskussion und Lösungsfindung eingebunden werden. Es geht nicht nur um the
 oretisches Wissen\, sondern um konkrete Ansätze\, die direkt im Arbeitsal
 ltag umsetzbar sind.\n\n\n\n\n\n\n\n 	Praxisnahe Lösungen: Teilnehmer:in
 nen entwickeln gemeinsam mit Branchenkolleg:innen sofort anwendbare Strate
 gien\n 	Netzwerkaufbau: Dein Team knüpft wertvolle Kontakte in der Branc
 he\, was langfristig zur Weiterentwicklung eurer Recruiting-Strategien bei
 trägt\n 	Wichtige Zukunftsthemen: Zum Beispiel Inklusion\, der Einsatz v
 on künstlicher Intelligenz im Recruiting und der Umgang mit knappen Resso
 urcen – all diese Themen und mehr werden praxisnah diskutiert\n 	Innovat
 ionskraft stärken: Das BarCamp-Format fördert kreatives und lösungsori
 entiertes Denken – ideal\, um neue Ansätze ins Unternehmen zu tragen\n 
 	Strategien erarbeiten: New Work bedarf Veränderung – erarbeite wichti
 ge KPI´s und Strategien\, um das Management für zukunftsrelevante Themen
  zu begeistern und zu überzeugen\n\n\n\n\n\n\nInvestiere in die Weiterent
 wicklung deines Recruiting-Teams und sichere dir einen Platz für dein Unt
 ernehmen beim ersten Zukunft Recruiting BarCamp in Österreich!\n\n
ATTACH;FMTTYPE=image/jpeg:https://karrieregefluester.com/wp-content/upload
 s/2024/12/Zukunft-Recruiting-BarCamp.jpeg
END:VEVENT
BEGIN:VTIMEZONE
TZID:Europe/Vienna
X-LIC-LOCATION:Europe/Vienna
BEGIN:STANDARD
DTSTART:20241027T020000
TZOFFSETFROM:+0200
TZOFFSETTO:+0100
TZNAME:CET
END:STANDARD
END:VTIMEZONE
END:VCALENDAR